BEGIN:VCALENDAR
VERSION:2.0
PRODID:-// - ECPv6.15.20//NONSGML v1.0//EN
CALSCALE:GREGORIAN
METHOD:PUBLISH
X-ORIGINAL-URL:https://johnsvilleauctions.com
X-WR-CALDESC:Events for 
REFRESH-INTERVAL;VALUE=DURATION:PT1H
X-Robots-Tag:noindex
X-PUBLISHED-TTL:PT1H
BEGIN:VTIMEZONE
TZID:America/New_York
BEGIN:DAYLIGHT
TZOFFSETFROM:-0500
TZOFFSETTO:-0400
TZNAME:EDT
DTSTART:20250309T070000
END:DAYLIGHT
BEGIN:STANDARD
TZOFFSETFROM:-0400
TZOFFSETTO:-0500
TZNAME:EST
DTSTART:20251102T060000
END:STANDARD
BEGIN:DAYLIGHT
TZOFFSETFROM:-0500
TZOFFSETTO:-0400
TZNAME:EDT
DTSTART:20260308T070000
END:DAYLIGHT
BEGIN:STANDARD
TZOFFSETFROM:-0400
TZOFFSETTO:-0500
TZNAME:EST
DTSTART:20261101T060000
END:STANDARD
BEGIN:DAYLIGHT
TZOFFSETFROM:-0500
TZOFFSETTO:-0400
TZNAME:EDT
DTSTART:20270314T070000
END:DAYLIGHT
BEGIN:STANDARD
TZOFFSETFROM:-0400
TZOFFSETTO:-0500
TZNAME:EST
DTSTART:20271107T060000
END:STANDARD
END:VTIMEZONE
BEGIN:VEVENT
DTSTART;TZID=America/New_York:20260221T120000
DTEND;TZID=America/New_York:20260221T153000
DTSTAMP:20260425T142154
CREATED:20260124T233652Z
LAST-MODIFIED:20260215T142456Z
UID:2807-1771675200-1771687800@johnsvilleauctions.com
SUMMARY:Inspection at 12:00pm
DESCRIPTION:Join us for our inspection for our upcoming auction! We recently spent the day in North Bethesda\, Maryland and were delighted by the quality and variety found in this estate. We’re excited to bring these pieces to auction and share them with our bidders. \n\n\n\n\n\n\n\n🏛️ February Auction— Estates from North Bethesda & Gaithersburg \n\n\n\nJoin us for an exciting February auction featuring two exceptional estates from North Bethesda and Gaithersburg\, Maryland. This sale offers a wonderful mix of fine furniture\, décor\, collectibles\, and vintage treasures — perfect for collectors\, decorators\, and anyone who enjoys the thrill of discovering something special. \n\n\n\nNorth Bethesda Estate Highlights\n\n\n\n🪑 Hitchcock Table & Six Chairs🛏️ Thomasville Bedroom Furniture📚 Mahogany Secretary🧥 Oak Hall Tree🧵 Oriental Rugs🎲 Tilt-Top Game Table🍸 Bar Stools🛋️ Mid-Century Modern Chairs💡 Vintage Lamps✨ Chandeliers➕ And much more! \n\n\n\nGaithersburg Estate Preview\n\n\n\n🪑 Mahogany Dining Table\, Chairs & China Cabinet🎹 Baldwin Upright Hamilton Piano👘 Oriental Kimono🏺 Stoneware\, China & Décor🎮 Vintage Computer & Video Game Equipment🎵 Pioneer Stereo System👜 Coach\, Vera Bradley & other quality consignments \n\n\n\n\n\n📅 Inspection Details\n\n\n\nInspection: Saturday\, February 14th | 12:00 PM–3:30 PM \n\n\n\nSpend your Sunday browsing\, bidding\, and discovering beautiful pieces with character and history. Whether you’re furnishing a home\, adding to a collection\, or simply love exploring quality estates\, we’d love to see you there. \n\n\n\n\n\n\n\n\n\n\n\n🔍 Inspection\n\n\n\nWe invite you to stop by during inspection day to explore the estates featured in our upcoming February auction. This is your chance to view items up close\, ask questions\, and decide what catches your eye before auction day. \n\n\n\nFrom classic furniture to vintage décor and unique collectibles\, there’s something for every taste. \n\n\n\n📅 Auction Details\n\n\n\nAuction Day: Sunday\, February 22nd | 10:00 AM\, Gates Open at 8:30 AM \n\n\n\nCome spend your Valentine’s Day with us before date night!
URL:https://johnsvilleauctions.com/event/sunday-february-14th-inspection/
END:VEVENT
BEGIN:VEVENT
DTSTART;TZID=America/New_York:20260222T100000
DTEND;TZID=America/New_York:20260222T100000
DTSTAMP:20260425T142154
CREATED:20260124T234355Z
LAST-MODIFIED:20260215T142301Z
UID:2816-1771754400-1771754400@johnsvilleauctions.com
SUMMARY:Auction at 10:00am
DESCRIPTION:🏛️ February Auction— Estates from North Bethesda & Gaithersburg \n\n\n\nJoin us for an exciting February auction featuring two exceptional estates from North Bethesda and Gaithersburg\, Maryland. This sale offers a wonderful mix of fine furniture\, décor\, collectibles\, and vintage treasures — perfect for collectors\, decorators\, and anyone who enjoys the thrill of discovering something special. \n\n\n\n\n📅 Auction Details\n\n\n\nAuction Day: Sunday\, February 22nd | 10:00 AM\, Gates Open at 8:30 AM \n\n\n\n\nNorth Bethesda Estate Highlights\n\n\n\n🪑 Hitchcock Table & Six Chairs🛏️ Thomasville Bedroom Furniture📚 Mahogany Secretary🧥 Oak Hall Tree🧵 Oriental Rugs🎲 Tilt-Top Game Table🍸 Bar Stools🛋️ Mid-Century Modern Chairs💡 Vintage Lamps✨ Chandeliers➕ And much more! \n\n\n\nGaithersburg Estate Preview\n\n\n\n🪑 Mahogany Dining Table\, Chairs & China Cabinet🎹 Baldwin Upright Hamilton Piano👘 Oriental Kimono🏺 Stoneware\, China & Décor🎮 Vintage Computer & Video Game Equipment🎵 Pioneer Stereo System👜 Coach\, Vera Bradley & other quality consignments \n\n\n\n\n\nSpend your Sunday browsing\, bidding\, and discovering beautiful pieces with character and history. Whether you’re furnishing a home\, adding to a collection\, or simply love exploring quality estates\, we’d love to see you there. \n\n\n\n🔍 Inspection\n\n\n\nInspection: Saturday\, February 21st | 12:00 PM–3:30 PM \n\n\n\nFrom classic furniture to vintage décor and unique collectibles\, there’s something for every taste. \n\n\n\nWe invite you to stop by during inspection day to explore the estates featured in our upcoming February auction. This is your chance to view items up close\, ask questions\, and decide what catches your eye before auction day.
URL:https://johnsvilleauctions.com/event/sunday-february-15th-auction/
END:VEVENT
END:VCALENDAR