BEGIN:VCALENDAR
VERSION:2.0
PRODID:-// - ECPv6.15.20//NONSGML v1.0//EN
CALSCALE:GREGORIAN
METHOD:PUBLISH
X-ORIGINAL-URL:https://johnsvilleauctions.com
X-WR-CALDESC:Events for 
REFRESH-INTERVAL;VALUE=DURATION:PT1H
X-Robots-Tag:noindex
X-PUBLISHED-TTL:PT1H
BEGIN:VTIMEZONE
TZID:America/New_York
BEGIN:DAYLIGHT
TZOFFSETFROM:-0500
TZOFFSETTO:-0400
TZNAME:EDT
DTSTART:20250309T070000
END:DAYLIGHT
BEGIN:STANDARD
TZOFFSETFROM:-0400
TZOFFSETTO:-0500
TZNAME:EST
DTSTART:20251102T060000
END:STANDARD
BEGIN:DAYLIGHT
TZOFFSETFROM:-0500
TZOFFSETTO:-0400
TZNAME:EDT
DTSTART:20260308T070000
END:DAYLIGHT
BEGIN:STANDARD
TZOFFSETFROM:-0400
TZOFFSETTO:-0500
TZNAME:EST
DTSTART:20261101T060000
END:STANDARD
BEGIN:DAYLIGHT
TZOFFSETFROM:-0500
TZOFFSETTO:-0400
TZNAME:EDT
DTSTART:20270314T070000
END:DAYLIGHT
BEGIN:STANDARD
TZOFFSETFROM:-0400
TZOFFSETTO:-0500
TZNAME:EST
DTSTART:20271107T060000
END:STANDARD
END:VTIMEZONE
BEGIN:VEVENT
DTSTART;TZID=America/New_York:20260524T120000
DTEND;TZID=America/New_York:20260524T120000
DTSTAMP:20260425T204448
CREATED:20260422T024935Z
LAST-MODIFIED:20260422T024945Z
UID:2915-1779624000-1779624000@johnsvilleauctions.com
SUMMARY:Inspection - Memorial Day
DESCRIPTION:
URL:https://johnsvilleauctions.com/event/inspection-memorial-day/
END:VEVENT
BEGIN:VEVENT
DTSTART;TZID=America/New_York:20260525T090000
DTEND;TZID=America/New_York:20260525T090000
DTSTAMP:20260425T204448
CREATED:20260125T000209Z
LAST-MODIFIED:20260417T143146Z
UID:2826-1779699600-1779699600@johnsvilleauctions.com
SUMMARY:60th Annual Memorial Day Auction
DESCRIPTION:Join us for our 60th Annual Memorial Day Auction!Proudly marking 20 years with Greg & Jenn running the show
URL:https://johnsvilleauctions.com/event/annual-memorial-day-auction/
END:VEVENT
END:VCALENDAR