BEGIN:VCALENDAR
VERSION:2.0
PRODID:-// - ECPv6.15.20//NONSGML v1.0//EN
CALSCALE:GREGORIAN
METHOD:PUBLISH
X-ORIGINAL-URL:https://johnsvilleauctions.com
X-WR-CALDESC:Events for 
REFRESH-INTERVAL;VALUE=DURATION:PT1H
X-Robots-Tag:noindex
X-PUBLISHED-TTL:PT1H
BEGIN:VTIMEZONE
TZID:America/New_York
BEGIN:DAYLIGHT
TZOFFSETFROM:-0500
TZOFFSETTO:-0400
TZNAME:EDT
DTSTART:20250309T070000
END:DAYLIGHT
BEGIN:STANDARD
TZOFFSETFROM:-0400
TZOFFSETTO:-0500
TZNAME:EST
DTSTART:20251102T060000
END:STANDARD
BEGIN:DAYLIGHT
TZOFFSETFROM:-0500
TZOFFSETTO:-0400
TZNAME:EDT
DTSTART:20260308T070000
END:DAYLIGHT
BEGIN:STANDARD
TZOFFSETFROM:-0400
TZOFFSETTO:-0500
TZNAME:EST
DTSTART:20261101T060000
END:STANDARD
BEGIN:DAYLIGHT
TZOFFSETFROM:-0500
TZOFFSETTO:-0400
TZNAME:EDT
DTSTART:20270314T070000
END:DAYLIGHT
BEGIN:STANDARD
TZOFFSETFROM:-0400
TZOFFSETTO:-0500
TZNAME:EST
DTSTART:20271107T060000
END:STANDARD
END:VTIMEZONE
BEGIN:VEVENT
DTSTART;TZID=America/New_York:20260419T100000
DTEND;TZID=America/New_York:20260419T100000
DTSTAMP:20260425T113125
CREATED:20260310T005619Z
LAST-MODIFIED:20260416T005213Z
UID:2884-1776592800-1776592800@johnsvilleauctions.com
SUMMARY:April Auction
DESCRIPTION:This Sunday’s auction is shaping up to be one you won’t want to miss. \n\n\n\nWe’re bringing you the fire this weekend with an incredible mix of items including tools\, furniture\, household goods\, local memorabilia\, and more. Highlights include vintage video games such as Super Nintendo with multiple games\, Sega (including boxed games)\, PS2\, PSP\, Xbox 360\, and classics like Zelda\, Mario\, Paperboy\, and Mortal Kombat. You’ll also find toys\, early Tonka trucks\, paper advertising\, and even an almost complete Shop Smith. \n\n\n\nUp to three auctioneers will be selling at once\, so there’s always something happening. \n\n\n\n🍴 Grandma Gems Food Truck will be on-site serving food all day—come hungry and plan to stay awhile. \n\n\n\n📍 Location: 12517 Molasses Rd\, Union Bridge\, MD🕙 Auction Start: Sunday\, April 19th at 10:00 AM🔍 Inspection: Saturday\, April 18th from 12:00–3:30 PM
URL:https://johnsvilleauctions.com/event/spring-auction/
END:VEVENT
BEGIN:VEVENT
DTSTART;TZID=America/New_York:20260418T120000
DTEND;TZID=America/New_York:20260418T153000
DTSTAMP:20260425T113125
CREATED:20260310T005758Z
LAST-MODIFIED:20260416T005003Z
UID:2886-1776513600-1776526200@johnsvilleauctions.com
SUMMARY:April Auction Inspection
DESCRIPTION:Get a first look at everything before auction day! Join us for inspection and preview a great lineup of tools\, furniture\, vintage video games\, collectibles\, and more—including an almost complete Shop Smith. \n\n\n\n \n\n\n\n📍 12517 Molasses Rd\, Union Bridge\, MD
URL:https://johnsvilleauctions.com/event/april-auction-inspection/
END:VEVENT
BEGIN:VEVENT
DTSTART;TZID=America/New_York:20260322T100000
DTEND;TZID=America/New_York:20260322T100000
DTSTAMP:20260425T113125
CREATED:20260224T213705Z
LAST-MODIFIED:20260310T004514Z
UID:2844-1774173600-1774173600@johnsvilleauctions.com
SUMMARY:Spring Auction 3/22
DESCRIPTION:Spring Auction at Johnsville Auction House \n\n\n\nSunday\, March 22\, 2026 • Auction Begins at 10:00 AM \n\n\n\nSpring is right around the corner\, and we’re celebrating the season with another exciting auction at Johnsville Auction House! Join us on Sunday\, March 22nd at 10:00 AM for a fantastic sale filled with collectibles\, furniture\, toys\, sports memorabilia\, and unique finds from across the region. \n\n\n\nThis month’s auction features consignments discovered in North Bethesda\, Frederick\, Westminster\, Fairfield\, Chevy Chase and beyond\, bringing together an eclectic mix of treasures for collectors\, decorators\, and bargain hunters alike. \n\n\n\nFeatured Highlights\n\n\n\n\nJohn Deere Zero-Turn Mower – Only 42 hours\n\n\n\nBrand New LEGO Sets\, including:\n\nSilent Mary (71042)\n\n\n\nKrennic’s Imperial Shuttle (75156)\n\n\n\nBB-8 (75187)\n\n\n\nFirst Order AT-ST (75201)\n\n\n\n\n\nVintage & Retro Gaming\n\nOriginal Nintendo NES\n\n\n\nGameboy\, Nintendo DS\, and games\n\n\n\n\n\nCollectible Toys\n\nStar Wars Funko Pops\n\n\n\nStar Wars Micro Galaxy & Micro Machines\n\n\n\nTMNT\, GI Joe\, Disney Monorail (Contemporary & Polynesian)\n\n\n\n\n\nNO RESERVE Numbered Sports Cards\n\n2010 Prestige Tom Brady (#157/170)\n\n\n\nJonathan Stewart (#18/50)\n\n\n\nGwynn/Ripken Numbered Ensemble Swatches (#32/75)\n\n\n\nAnd more\n\n\n\n\n\nModel Home Furniture & Decor\n\nSideboards\, chairs\, sofa with lounge\n\n\n\nArtwork\, lamps\, staging decor\, and accessories\n\n\n\n\n\nQuality Furniture & Antiques\n\nEthan Allen pieces\n\n\n\nHall tree\n\n\n\nStepback cupboard\n\n\n\nFireplace set\n\n\n\nAnd much more\n\n\n\n\n\n\nAuction Details\n\n\n\n📍 Location:Johnsville Auction House12517 Molasses RdUnion Bridge\, Maryland \n\n\n\n🕙 Auction Begins:Sunday\, March 22\, 2026 at 10:00 AM \n\n\n\n🔎 Inspection:Saturday\, March 21 from 12:00 PM – 3:30 PM \n\n\n\nWhether you’re a collector\, decorator\, reseller\, or just love the thrill of the auction floor\, there will be something for everyone. Come celebrate the start of spring with us and see what treasures you can take home!
URL:https://johnsvilleauctions.com/event/march-auction/
END:VEVENT
BEGIN:VEVENT
DTSTART;TZID=America/New_York:20260321T110000
DTEND;TZID=America/New_York:20260321T150000
DTSTAMP:20260425T113125
CREATED:20260224T214042Z
LAST-MODIFIED:20260310T004842Z
UID:2846-1774090800-1774105200@johnsvilleauctions.com
SUMMARY:Spring Auction Inspection 3/21
DESCRIPTION:Please join us Saturday\, March 21st from 11:00 AM – 3:00 PM for in-person auction inspection at 12517 Molasses Rd\, Union Bridge\, MD. Buyers are encouraged to attend and review items prior to the auction.
URL:https://johnsvilleauctions.com/event/march-auction-inspection/
END:VEVENT
BEGIN:VEVENT
DTSTART;TZID=America/New_York:20260222T100000
DTEND;TZID=America/New_York:20260222T100000
DTSTAMP:20260425T113125
CREATED:20260124T234355Z
LAST-MODIFIED:20260215T142301Z
UID:2816-1771754400-1771754400@johnsvilleauctions.com
SUMMARY:Auction at 10:00am
DESCRIPTION:🏛️ February Auction— Estates from North Bethesda & Gaithersburg \n\n\n\nJoin us for an exciting February auction featuring two exceptional estates from North Bethesda and Gaithersburg\, Maryland. This sale offers a wonderful mix of fine furniture\, décor\, collectibles\, and vintage treasures — perfect for collectors\, decorators\, and anyone who enjoys the thrill of discovering something special. \n\n\n\n\n📅 Auction Details\n\n\n\nAuction Day: Sunday\, February 22nd | 10:00 AM\, Gates Open at 8:30 AM \n\n\n\n\nNorth Bethesda Estate Highlights\n\n\n\n🪑 Hitchcock Table & Six Chairs🛏️ Thomasville Bedroom Furniture📚 Mahogany Secretary🧥 Oak Hall Tree🧵 Oriental Rugs🎲 Tilt-Top Game Table🍸 Bar Stools🛋️ Mid-Century Modern Chairs💡 Vintage Lamps✨ Chandeliers➕ And much more! \n\n\n\nGaithersburg Estate Preview\n\n\n\n🪑 Mahogany Dining Table\, Chairs & China Cabinet🎹 Baldwin Upright Hamilton Piano👘 Oriental Kimono🏺 Stoneware\, China & Décor🎮 Vintage Computer & Video Game Equipment🎵 Pioneer Stereo System👜 Coach\, Vera Bradley & other quality consignments \n\n\n\n\n\nSpend your Sunday browsing\, bidding\, and discovering beautiful pieces with character and history. Whether you’re furnishing a home\, adding to a collection\, or simply love exploring quality estates\, we’d love to see you there. \n\n\n\n🔍 Inspection\n\n\n\nInspection: Saturday\, February 21st | 12:00 PM–3:30 PM \n\n\n\nFrom classic furniture to vintage décor and unique collectibles\, there’s something for every taste. \n\n\n\nWe invite you to stop by during inspection day to explore the estates featured in our upcoming February auction. This is your chance to view items up close\, ask questions\, and decide what catches your eye before auction day.
URL:https://johnsvilleauctions.com/event/sunday-february-15th-auction/
END:VEVENT
BEGIN:VEVENT
DTSTART;TZID=America/New_York:20260221T120000
DTEND;TZID=America/New_York:20260221T153000
DTSTAMP:20260425T113125
CREATED:20260124T233652Z
LAST-MODIFIED:20260215T142456Z
UID:2807-1771675200-1771687800@johnsvilleauctions.com
SUMMARY:Inspection at 12:00pm
DESCRIPTION:Join us for our inspection for our upcoming auction! We recently spent the day in North Bethesda\, Maryland and were delighted by the quality and variety found in this estate. We’re excited to bring these pieces to auction and share them with our bidders. \n\n\n\n\n\n\n\n🏛️ February Auction— Estates from North Bethesda & Gaithersburg \n\n\n\nJoin us for an exciting February auction featuring two exceptional estates from North Bethesda and Gaithersburg\, Maryland. This sale offers a wonderful mix of fine furniture\, décor\, collectibles\, and vintage treasures — perfect for collectors\, decorators\, and anyone who enjoys the thrill of discovering something special. \n\n\n\nNorth Bethesda Estate Highlights\n\n\n\n🪑 Hitchcock Table & Six Chairs🛏️ Thomasville Bedroom Furniture📚 Mahogany Secretary🧥 Oak Hall Tree🧵 Oriental Rugs🎲 Tilt-Top Game Table🍸 Bar Stools🛋️ Mid-Century Modern Chairs💡 Vintage Lamps✨ Chandeliers➕ And much more! \n\n\n\nGaithersburg Estate Preview\n\n\n\n🪑 Mahogany Dining Table\, Chairs & China Cabinet🎹 Baldwin Upright Hamilton Piano👘 Oriental Kimono🏺 Stoneware\, China & Décor🎮 Vintage Computer & Video Game Equipment🎵 Pioneer Stereo System👜 Coach\, Vera Bradley & other quality consignments \n\n\n\n\n\n📅 Inspection Details\n\n\n\nInspection: Saturday\, February 14th | 12:00 PM–3:30 PM \n\n\n\nSpend your Sunday browsing\, bidding\, and discovering beautiful pieces with character and history. Whether you’re furnishing a home\, adding to a collection\, or simply love exploring quality estates\, we’d love to see you there. \n\n\n\n\n\n\n\n\n\n\n\n🔍 Inspection\n\n\n\nWe invite you to stop by during inspection day to explore the estates featured in our upcoming February auction. This is your chance to view items up close\, ask questions\, and decide what catches your eye before auction day. \n\n\n\nFrom classic furniture to vintage décor and unique collectibles\, there’s something for every taste. \n\n\n\n📅 Auction Details\n\n\n\nAuction Day: Sunday\, February 22nd | 10:00 AM\, Gates Open at 8:30 AM \n\n\n\nCome spend your Valentine’s Day with us before date night!
URL:https://johnsvilleauctions.com/event/sunday-february-14th-inspection/
END:VEVENT
BEGIN:VEVENT
DTSTART;TZID=America/New_York:20260118T100000
DTEND;TZID=America/New_York:20260118T100000
DTSTAMP:20260425T113125
CREATED:20260107T022107Z
LAST-MODIFIED:20260107T034228Z
UID:2744-1768730400-1768730400@johnsvilleauctions.com
SUMMARY:New Year\, New Collections Consignment Auction
DESCRIPTION:Kick off the new year with fresh finds\, standout collections\, and one humdinger of an auction at Johnsville Auction House. This exciting consignment auction brings together estates and collections from Westminster\, Mt. Airy\, a Baltimore warehouse\, and a cabinet shop in Dickerson\, Maryland\, offering something for collectors\, dealers\, and buyers alike. \n\n\n\nFeatured highlights include: \n\n\n\n\nTwo John Deere mowers\n\n\n\nEstate jewelry – lots of Gold and Silver\n\n\n\nArchitectural and industrial items\n\n\n\nLarge hanging barn doors\n\n\n\nTools and shop equipment\n\n\n\nDunkin’ Donuts storefront advertising\n\n\n\nGrizzly equipment from Baltimore\, MD\n\n\n\n\nAdding to the excitement is a fantastic local memorabilia collection from Westminster\, Maryland\, showcasing porcelain gas pump plates\, regional advertising\, and other unique local collectibles rarely offered at auction. \n\n\n\nWhether you’re searching for collectibles\, equipment\, décor\, or one-of-a-kind pieces\, this auction delivers a wide range of quality items and unexpected treasures. Join us in person and bid with confidence as we start the year strong. \n\n\n\nConcessions: To Be Announced \n\n\n\n\n\n\n\n\n\nFeatured Listings for January 18th
URL:https://johnsvilleauctions.com/event/auction/
LOCATION:Johnsville Auction House\, 12517 Molasses Rd\, Union Bridge\, Maryland\, 21791\, United States
END:VEVENT
BEGIN:VEVENT
DTSTART;TZID=America/New_York:20260117T110000
DTEND;TZID=America/New_York:20260117T150000
DTSTAMP:20260425T113125
CREATED:20260107T033740Z
LAST-MODIFIED:20260107T033746Z
UID:2783-1768647600-1768662000@johnsvilleauctions.com
SUMMARY:Inspection for January 18th
DESCRIPTION:Join us for a preview and inspection day as we kick off the new year with positive energy and one exceptional upcoming auction. This is your opportunity to view items in person\, ask questions\, and plan your bidding strategy ahead of auction day. \n\n\n\nThis auction brings together estates and collections from Westminster\, Mt. Airy\, a Baltimore warehouse\, and a cabinet shop in Dickerson\, Maryland\, offering a diverse and exciting selection. \n\n\n\nHighlights available for inspection include: \n\n\n\n\nTwo John Deere mowers\n\n\n\nEstate jewelry\, lots of gold and silver\n\n\n\nArchitectural items\n\n\n\nLarge hanging barn doors\n\n\n\nTools and shop equipment\n\n\n\nDunkin’ Donuts storefront advertising\n\n\n\nGrizzly equipment from Baltimore\, MD\n\n\n\n\nWe’ve also uncovered an outstanding local memorabilia collection from Westminster\, Maryland\, featuring porcelain gas pump plates and additional regional advertising and collectibles. \n\n\n\nAll items will be available for in-person inspection only during this time. Bidding will take place on auction day. \n\n\n\nConcessions: To Be Announced
URL:https://johnsvilleauctions.com/event/inspection-for-january-18th/
LOCATION:Johnsville Auction House\, 12517 Molasses Rd\, Union Bridge\, Maryland\, 21791\, United States
END:VEVENT
END:VCALENDAR